BEGIN:VCALENDAR
VERSION:2.0
PRODID:-// - ECPv6.15.20//NONSGML v1.0//EN
CALSCALE:GREGORIAN
METHOD:PUBLISH
X-ORIGINAL-URL:https://marquis66.com
X-WR-CALDESC:Events for 
REFRESH-INTERVAL;VALUE=DURATION:PT1H
X-Robots-Tag:noindex
X-PUBLISHED-TTL:PT1H
BEGIN:VTIMEZONE
TZID:UTC
BEGIN:STANDARD
TZOFFSETFROM:+0000
TZOFFSETTO:+0000
TZNAME:UTC
DTSTART:20200101T000000
END:STANDARD
END:VTIMEZONE
BEGIN:VEVENT
DTSTART;TZID=UTC:20210530T130000
DTEND;TZID=UTC:20210530T170000
DTSTAMP:20260420T123651
CREATED:20210520T214857Z
LAST-MODIFIED:20210520T214857Z
UID:118-1622379600-1622394000@marquis66.com
SUMMARY:Papa Boo's
DESCRIPTION:
URL:https://marquis66.com/event/papa-boos/
LOCATION:Papa Boo’s\, 11356 Avondale Road\, Thornville\, OH\, 43076\, United States
END:VEVENT
END:VCALENDAR