BEGIN:VCALENDAR
VERSION:2.0
PRODID:-// - ECPv6.15.20//NONSGML v1.0//EN
CALSCALE:GREGORIAN
METHOD:PUBLISH
X-ORIGINAL-URL:https://marquis66.com
X-WR-CALDESC:Events for 
REFRESH-INTERVAL;VALUE=DURATION:PT1H
X-Robots-Tag:noindex
X-PUBLISHED-TTL:PT1H
BEGIN:VTIMEZONE
TZID:UTC
BEGIN:STANDARD
TZOFFSETFROM:+0000
TZOFFSETTO:+0000
TZNAME:UTC
DTSTART:20200101T000000
END:STANDARD
END:VTIMEZONE
BEGIN:VEVENT
DTSTART;TZID=UTC:20210924T193000
DTEND;TZID=UTC:20210924T233000
DTSTAMP:20260420T054837
CREATED:20210524T205854Z
LAST-MODIFIED:20210922T123741Z
UID:168-1632511800-1632526200@marquis66.com
SUMMARY:Benny's Pizza
DESCRIPTION:
URL:https://marquis66.com/event/bennys-pizza/
LOCATION:Benny’s Pizza\, 968 Columbus Avenue\, Marysville\, OH\, 43040\, United States
END:VEVENT
END:VCALENDAR