BEGIN:VCALENDAR
VERSION:2.0
PRODID:-// - ECPv6.15.20//NONSGML v1.0//EN
CALSCALE:GREGORIAN
METHOD:PUBLISH
X-ORIGINAL-URL:https://marquis66.com
X-WR-CALDESC:Events for 
REFRESH-INTERVAL;VALUE=DURATION:PT1H
X-Robots-Tag:noindex
X-PUBLISHED-TTL:PT1H
BEGIN:VTIMEZONE
TZID:UTC
BEGIN:STANDARD
TZOFFSETFROM:+0000
TZOFFSETTO:+0000
TZNAME:UTC
DTSTART:20210101T000000
END:STANDARD
END:VTIMEZONE
BEGIN:VEVENT
DTSTART;TZID=UTC:20221231T200000
DTEND;TZID=UTC:20230101T000000
DTSTAMP:20260421T175518
CREATED:20221116T160559Z
LAST-MODIFIED:20221116T160559Z
UID:483-1672516800-1672531200@marquis66.com
SUMMARY:New Year's Eve! - Circleville Eagles
DESCRIPTION:
URL:https://marquis66.com/event/new-years-eve-circleville-eagles/
LOCATION:Circleville Eagles\, 135 E. Main Street\, Circleville\, OH\, 43113\, United States
END:VEVENT
END:VCALENDAR