BEGIN:VCALENDAR
VERSION:2.0
PRODID:-// - ECPv6.15.20//NONSGML v1.0//EN
CALSCALE:GREGORIAN
METHOD:PUBLISH
X-ORIGINAL-URL:https://marquis66.com
X-WR-CALDESC:Events for 
REFRESH-INTERVAL;VALUE=DURATION:PT1H
X-Robots-Tag:noindex
X-PUBLISHED-TTL:PT1H
BEGIN:VTIMEZONE
TZID:UTC
BEGIN:STANDARD
TZOFFSETFROM:+0000
TZOFFSETTO:+0000
TZNAME:UTC
DTSTART:20220101T000000
END:STANDARD
END:VTIMEZONE
BEGIN:VEVENT
DTSTART;TZID=UTC:20230304T193000
DTEND;TZID=UTC:20230304T223000
DTSTAMP:20260421T212758
CREATED:20221208T154021Z
LAST-MODIFIED:20221212T222654Z
UID:499-1677958200-1677969000@marquis66.com
SUMMARY:The Pour House at Machinery Hall
DESCRIPTION:
URL:https://marquis66.com/event/the-pour-house-at-machinery-hall/
LOCATION:The Pour House at Machinery Hall\, 25 East 2nd Street\, Chillicothe\, OH\, 45601\, United States
END:VEVENT
END:VCALENDAR