BEGIN:VCALENDAR
VERSION:2.0
PRODID:-// - ECPv6.15.20//NONSGML v1.0//EN
CALSCALE:GREGORIAN
METHOD:PUBLISH
X-ORIGINAL-URL:https://marquis66.com
X-WR-CALDESC:Events for 
REFRESH-INTERVAL;VALUE=DURATION:PT1H
X-Robots-Tag:noindex
X-PUBLISHED-TTL:PT1H
BEGIN:VTIMEZONE
TZID:UTC
BEGIN:STANDARD
TZOFFSETFROM:+0000
TZOFFSETTO:+0000
TZNAME:UTC
DTSTART:20220101T000000
END:STANDARD
END:VTIMEZONE
BEGIN:VEVENT
DTSTART;TZID=UTC:20230512T190000
DTEND;TZID=UTC:20230512T230000
DTSTAMP:20260422T022920
CREATED:20221116T161118Z
LAST-MODIFIED:20221116T161118Z
UID:487-1683918000-1683932400@marquis66.com
SUMMARY:Waterfront on Buckeye Lake
DESCRIPTION:
URL:https://marquis66.com/event/waterfront-on-buckeye-lake-2/
LOCATION:Waterfront on Buckeye Lake\, 10055 Sunfish Lane\, Thornville\, OH\, 43076\, United States
END:VEVENT
END:VCALENDAR