BEGIN:VCALENDAR
VERSION:2.0
PRODID:-// - ECPv6.15.20//NONSGML v1.0//EN
CALSCALE:GREGORIAN
METHOD:PUBLISH
X-ORIGINAL-URL:https://marquis66.com
X-WR-CALDESC:Events for 
REFRESH-INTERVAL;VALUE=DURATION:PT1H
X-Robots-Tag:noindex
X-PUBLISHED-TTL:PT1H
BEGIN:VTIMEZONE
TZID:UTC
BEGIN:STANDARD
TZOFFSETFROM:+0000
TZOFFSETTO:+0000
TZNAME:UTC
DTSTART:20220101T000000
END:STANDARD
END:VTIMEZONE
BEGIN:VEVENT
DTSTART;TZID=UTC:20230616T190000
DTEND;TZID=UTC:20230616T230000
DTSTAMP:20260422T042811
CREATED:20230404T211659Z
LAST-MODIFIED:20230404T211659Z
UID:555-1686942000-1686956400@marquis66.com
SUMMARY:Reynoldsburg Eagles
DESCRIPTION:
URL:https://marquis66.com/event/reynoldsburg-eagles-3/
LOCATION:Reynoldsburg Eagles\, 1623 Brice Road\, Reynoldsburg\, 43068
END:VEVENT
END:VCALENDAR