BEGIN:VCALENDAR
VERSION:2.0
PRODID:-// - ECPv6.15.20//NONSGML v1.0//EN
CALSCALE:GREGORIAN
METHOD:PUBLISH
X-ORIGINAL-URL:https://marquis66.com
X-WR-CALDESC:Events for 
REFRESH-INTERVAL;VALUE=DURATION:PT1H
X-Robots-Tag:noindex
X-PUBLISHED-TTL:PT1H
BEGIN:VTIMEZONE
TZID:UTC
BEGIN:STANDARD
TZOFFSETFROM:+0000
TZOFFSETTO:+0000
TZNAME:UTC
DTSTART:20220101T000000
END:STANDARD
END:VTIMEZONE
BEGIN:VEVENT
DTSTART;TZID=UTC:20230623T190000
DTEND;TZID=UTC:20230623T220000
DTSTAMP:20260422T042849
CREATED:20230423T185719Z
LAST-MODIFIED:20230423T185719Z
UID:568-1687546800-1687557600@marquis66.com
SUMMARY:Johnstown Fireman's Festival
DESCRIPTION:
URL:https://marquis66.com/event/johnstown-firemans-festival-2/
LOCATION:Johnstown Fireman’s Festival\, Town Square\, Johnstown\, OH\, 43031\, United States
END:VEVENT
END:VCALENDAR