BEGIN:VCALENDAR
VERSION:2.0
PRODID:-// - ECPv6.15.20//NONSGML v1.0//EN
CALSCALE:GREGORIAN
METHOD:PUBLISH
X-ORIGINAL-URL:https://marquis66.com
X-WR-CALDESC:Events for 
REFRESH-INTERVAL;VALUE=DURATION:PT1H
X-Robots-Tag:noindex
X-PUBLISHED-TTL:PT1H
BEGIN:VTIMEZONE
TZID:UTC
BEGIN:STANDARD
TZOFFSETFROM:+0000
TZOFFSETTO:+0000
TZNAME:UTC
DTSTART:20220101T000000
END:STANDARD
END:VTIMEZONE
BEGIN:VEVENT
DTSTART;TZID=UTC:20230708T190000
DTEND;TZID=UTC:20230708T230000
DTSTAMP:20260422T060824
CREATED:20220806T154534Z
LAST-MODIFIED:20221208T151818Z
UID:473-1688842800-1688857200@marquis66.com
SUMMARY:Private Party - Circleville
DESCRIPTION:
URL:https://marquis66.com/event/private-party-8/
LOCATION:Private Event
END:VEVENT
END:VCALENDAR