BEGIN:VCALENDAR
VERSION:2.0
PRODID:-// - ECPv6.15.20//NONSGML v1.0//EN
CALSCALE:GREGORIAN
METHOD:PUBLISH
X-ORIGINAL-URL:https://marquis66.com
X-WR-CALDESC:Events for 
REFRESH-INTERVAL;VALUE=DURATION:PT1H
X-Robots-Tag:noindex
X-PUBLISHED-TTL:PT1H
BEGIN:VTIMEZONE
TZID:UTC
BEGIN:STANDARD
TZOFFSETFROM:+0000
TZOFFSETTO:+0000
TZNAME:UTC
DTSTART:20220101T000000
END:STANDARD
END:VTIMEZONE
BEGIN:VEVENT
DTSTART;TZID=UTC:20230818T200000
DTEND;TZID=UTC:20230818T230000
DTSTAMP:20260422T075240
CREATED:20230427T123130Z
LAST-MODIFIED:20230427T123130Z
UID:572-1692388800-1692399600@marquis66.com
SUMMARY:Pataskala Street Fair
DESCRIPTION:
URL:https://marquis66.com/event/pataskala-street-fair-3/
LOCATION:Pataskala Street Fair\, State Route 310\, Pataskala\, OH\, 43062\, United States
END:VEVENT
END:VCALENDAR