BEGIN:VCALENDAR
VERSION:2.0
PRODID:-// - ECPv6.15.20//NONSGML v1.0//EN
CALSCALE:GREGORIAN
METHOD:PUBLISH
X-ORIGINAL-URL:https://marquis66.com
X-WR-CALDESC:Events for 
REFRESH-INTERVAL;VALUE=DURATION:PT1H
X-Robots-Tag:noindex
X-PUBLISHED-TTL:PT1H
BEGIN:VTIMEZONE
TZID:UTC
BEGIN:STANDARD
TZOFFSETFROM:+0000
TZOFFSETTO:+0000
TZNAME:UTC
DTSTART:20230101T000000
END:STANDARD
END:VTIMEZONE
BEGIN:VEVENT
DTSTART;TZID=UTC:20240408T134500
DTEND;TZID=UTC:20240408T173000
DTSTAMP:20260423T020807
CREATED:20240406T192018Z
LAST-MODIFIED:20240406T192018Z
UID:700-1712583900-1712597400@marquis66.com
SUMMARY:Rockin' Eclipse at Rainbow Lakes
DESCRIPTION:
URL:https://marquis66.com/event/rockin-eclipse-at-rainbow-lakes/
LOCATION:Rainbow Lakes\, 3491 OH-235\, Fairborn\, OH\, 45324\, United States
END:VEVENT
END:VCALENDAR