BEGIN:VCALENDAR
VERSION:2.0
PRODID:-// - ECPv6.15.20//NONSGML v1.0//EN
CALSCALE:GREGORIAN
METHOD:PUBLISH
X-ORIGINAL-URL:https://marquis66.com
X-WR-CALDESC:Events for 
REFRESH-INTERVAL;VALUE=DURATION:PT1H
X-Robots-Tag:noindex
X-PUBLISHED-TTL:PT1H
BEGIN:VTIMEZONE
TZID:UTC
BEGIN:STANDARD
TZOFFSETFROM:+0000
TZOFFSETTO:+0000
TZNAME:UTC
DTSTART:20230101T000000
END:STANDARD
END:VTIMEZONE
BEGIN:VEVENT
DTSTART;TZID=UTC:20240607T190000
DTEND;TZID=UTC:20240607T203000
DTSTAMP:20260423T072225
CREATED:20240228T165423Z
LAST-MODIFIED:20240228T165423Z
UID:693-1717786800-1717792200@marquis66.com
SUMMARY:Grove City Summer Sizzle Concert Series
DESCRIPTION:
URL:https://marquis66.com/event/grove-city-summer-sizzle-concert-series-3/
LOCATION:Grove City Summer Sizzle Concert Series\, 3359 Park Street\, Grove City\, OH\, 43123\, United States
END:VEVENT
END:VCALENDAR