BEGIN:VCALENDAR
VERSION:2.0
PRODID:-// - ECPv6.15.20//NONSGML v1.0//EN
CALSCALE:GREGORIAN
METHOD:PUBLISH
X-ORIGINAL-URL:https://marquis66.com
X-WR-CALDESC:Events for 
REFRESH-INTERVAL;VALUE=DURATION:PT1H
X-Robots-Tag:noindex
X-PUBLISHED-TTL:PT1H
BEGIN:VTIMEZONE
TZID:UTC
BEGIN:STANDARD
TZOFFSETFROM:+0000
TZOFFSETTO:+0000
TZNAME:UTC
DTSTART:20230101T000000
END:STANDARD
END:VTIMEZONE
BEGIN:VEVENT
DTSTART;TZID=UTC:20240622T140000
DTEND;TZID=UTC:20240622T180000
DTSTAMP:20260423T171417
CREATED:20240206T162559Z
LAST-MODIFIED:20240206T162559Z
UID:667-1719064800-1719079200@marquis66.com
SUMMARY:Peeper's at Kelleys Island
DESCRIPTION:
URL:https://marquis66.com/event/peepers-at-kelleys-island-3/
LOCATION:Peeper’s at Kelleys Island\, 109 W. Lakeshore Drive\, Kelleys Island\, OH\, 43438\, United States
END:VEVENT
END:VCALENDAR