BEGIN:VCALENDAR
VERSION:2.0
PRODID:-// - ECPv6.15.20//NONSGML v1.0//EN
CALSCALE:GREGORIAN
METHOD:PUBLISH
X-ORIGINAL-URL:https://marquis66.com
X-WR-CALDESC:Events for 
REFRESH-INTERVAL;VALUE=DURATION:PT1H
X-Robots-Tag:noindex
X-PUBLISHED-TTL:PT1H
BEGIN:VTIMEZONE
TZID:America/New_York
BEGIN:DAYLIGHT
TZOFFSETFROM:-0500
TZOFFSETTO:-0400
TZNAME:EDT
DTSTART:20200308T070000
END:DAYLIGHT
BEGIN:STANDARD
TZOFFSETFROM:-0400
TZOFFSETTO:-0500
TZNAME:EST
DTSTART:20201101T060000
END:STANDARD
BEGIN:DAYLIGHT
TZOFFSETFROM:-0500
TZOFFSETTO:-0400
TZNAME:EDT
DTSTART:20210314T070000
END:DAYLIGHT
BEGIN:STANDARD
TZOFFSETFROM:-0400
TZOFFSETTO:-0500
TZNAME:EST
DTSTART:20211107T060000
END:STANDARD
BEGIN:DAYLIGHT
TZOFFSETFROM:-0500
TZOFFSETTO:-0400
TZNAME:EDT
DTSTART:20220313T070000
END:DAYLIGHT
BEGIN:STANDARD
TZOFFSETFROM:-0400
TZOFFSETTO:-0500
TZNAME:EST
DTSTART:20221106T060000
END:STANDARD
END:VTIMEZONE
BEGIN:VTIMEZONE
TZID:UTC
BEGIN:STANDARD
TZOFFSETFROM:+0000
TZOFFSETTO:+0000
TZNAME:UTC
DTSTART:20200101T000000
END:STANDARD
END:VTIMEZONE
BEGIN:VEVENT
DTSTART;TZID=America/New_York:20211001T190000
DTEND;TZID=America/New_York:20211001T230000
DTSTAMP:20260420T072233
CREATED:20210622T143410Z
LAST-MODIFIED:20210922T123851Z
UID:279-1633114800-1633129200@marquis66.com
SUMMARY:Newark Moose
DESCRIPTION:
URL:https://marquis66.com/event/newark-moose/
LOCATION:Newark Moose\, 235 West National Drive\, Newark\, OH\, 43055\, United States
END:VEVENT
BEGIN:VEVENT
DTSTART;TZID=UTC:20211010T140000
DTEND;TZID=UTC:20211010T150000
DTSTAMP:20260420T072233
CREATED:20210929T171417Z
LAST-MODIFIED:20211008T125649Z
UID:365-1633874400-1633878000@marquis66.com
SUMMARY:The 70s' Music Explosion at the Columbus Historical Society
DESCRIPTION:Please join us for our free opening reception for our new exhibit\, The 70’s Music Explosion in Columbus\, Ohio at the Columbus Historical Society on Sunday\, October 10 at 1 pm. Enjoy live 70’s music provided by Marquis66 from 2-3 pm! \nWe look forward to seeing you at our exciting new exhibit. The event is free\, but tickets are required. Light refreshments will be provided. \nCHS is located at 717 West Town Street\, which is just west of 315 and just east of Mount Carmel West. \nGet Your Ticket Here!
URL:https://marquis66.com/event/private-party-3/
LOCATION:Columbus Historical Society\, 717 West Town Street\, Columbus\, OH\, 43222\, United States
END:VEVENT
BEGIN:VEVENT
DTSTART;TZID=America/New_York:20211015T173000
DTEND;TZID=America/New_York:20211015T190000
DTSTAMP:20260420T072233
CREATED:20210524T204118Z
LAST-MODIFIED:20211004T145008Z
UID:160-1634319000-1634324400@marquis66.com
SUMMARY:Grove City Summer Sizzle Concert Series
DESCRIPTION:SummerSizzleMapMusician
URL:https://marquis66.com/event/grove-city-summer-sizzle-concert-series/
LOCATION:Grove City Summer Sizzle Concert Series\, 3359 Park Street\, Grove City\, OH\, 43123\, United States
END:VEVENT
BEGIN:VEVENT
DTSTART;TZID=America/New_York:20211016T200000
DTEND;TZID=America/New_York:20211017T000000
DTSTAMP:20260420T072233
CREATED:20210524T210947Z
LAST-MODIFIED:20210524T210947Z
UID:171-1634414400-1634428800@marquis66.com
SUMMARY:Hunter Street Saloon
DESCRIPTION:
URL:https://marquis66.com/event/hunter-street-saloon/
LOCATION:Hunter Street Saloon\, 885 W Hunter Street\, Logan\, OH\, 43138\, United States
END:VEVENT
BEGIN:VEVENT
DTSTART;TZID=America/New_York:20211105T190000
DTEND;TZID=America/New_York:20211105T230000
DTSTAMP:20260420T072233
CREATED:20210721T135139Z
LAST-MODIFIED:20210721T135139Z
UID:349-1636138800-1636153200@marquis66.com
SUMMARY:Pickerington American Legion
DESCRIPTION:
URL:https://marquis66.com/event/pickerington-american-legion-2/
LOCATION:Pickerington American Legion\, 7725 Refugee Rd\, Pickerington\, OH\, 43147\, United States
END:VEVENT
BEGIN:VEVENT
DTSTART;VALUE=DATE:20211210
DTEND;VALUE=DATE:20211211
DTSTAMP:20260420T072233
CREATED:20211008T130428Z
LAST-MODIFIED:20211008T130428Z
UID:373-1639094400-1639180799@marquis66.com
SUMMARY:Private Party
DESCRIPTION:
URL:https://marquis66.com/event/private-party-4/
LOCATION:OH
END:VEVENT
BEGIN:VEVENT
DTSTART;TZID=UTC:20220129T190000
DTEND;TZID=UTC:20220129T230000
DTSTAMP:20260420T072233
CREATED:20220305T153721Z
LAST-MODIFIED:20220305T153721Z
UID:376-1643482800-1643497200@marquis66.com
SUMMARY:Columbus Moose
DESCRIPTION:
URL:https://marquis66.com/event/columbus-moose/
LOCATION:Columbus Moose\, 1444 Demorest Road\, Columbus\, OH\, 43228\, United States
END:VEVENT
BEGIN:VEVENT
DTSTART;TZID=UTC:20220304T133000
DTEND;TZID=UTC:20220304T143000
DTSTAMP:20260420T072233
CREATED:20220305T154011Z
LAST-MODIFIED:20220305T154011Z
UID:379-1646400600-1646404200@marquis66.com
SUMMARY:Private Event
DESCRIPTION:
URL:https://marquis66.com/event/private-event/
LOCATION:Private Event
END:VEVENT
BEGIN:VEVENT
DTSTART;TZID=UTC:20220506T190000
DTEND;TZID=UTC:20220506T223000
DTSTAMP:20260420T072233
CREATED:20220430T200545Z
LAST-MODIFIED:20220430T200545Z
UID:440-1651863600-1651876200@marquis66.com
SUMMARY:Circleville American Legion
DESCRIPTION:
URL:https://marquis66.com/event/circleville-american-legion/
LOCATION:Circleville American Legion\, 23363 US 23\, Circleville\, OH\, 43113\, United States
END:VEVENT
BEGIN:VEVENT
DTSTART;TZID=UTC:20220528T190000
DTEND;TZID=UTC:20220528T210000
DTSTAMP:20260420T072233
CREATED:20220525T214245Z
LAST-MODIFIED:20220525T214245Z
UID:452-1653764400-1653771600@marquis66.com
SUMMARY:Weldon's Ice Cream Factory
DESCRIPTION:
URL:https://marquis66.com/event/weldons-ice-cream-factory-2/
LOCATION:Weldon’s Ice Cream Factory\, 2887 Canal Drive\, Millersport\, OH\, 43046\, United States
END:VEVENT
BEGIN:VEVENT
DTSTART;TZID=UTC:20220529T193000
DTEND;TZID=UTC:20220529T223000
DTSTAMP:20260420T072233
CREATED:20220305T154555Z
LAST-MODIFIED:20220305T154555Z
UID:382-1653852600-1653863400@marquis66.com
SUMMARY:Private Event - South Charleston
DESCRIPTION:
URL:https://marquis66.com/event/private-event-south-charleston/
LOCATION:Private Event
END:VEVENT
BEGIN:VEVENT
DTSTART;TZID=UTC:20220603T183000
DTEND;TZID=UTC:20220603T200000
DTSTAMP:20260420T072233
CREATED:20220305T154919Z
LAST-MODIFIED:20220305T154919Z
UID:386-1654281000-1654286400@marquis66.com
SUMMARY:Grove City Summer Sizzle Concert Series
DESCRIPTION:
URL:https://marquis66.com/event/grove-city-summer-sizzle-concert-series-2/
LOCATION:Grove City Summer Sizzle Concert Series\, 3359 Park Street\, Grove City\, OH\, 43123\, United States
END:VEVENT
BEGIN:VEVENT
DTSTART;TZID=UTC:20220604T193000
DTEND;TZID=UTC:20220604T233000
DTSTAMP:20260420T072233
CREATED:20220305T160512Z
LAST-MODIFIED:20220602T003943Z
UID:391-1654371000-1654385400@marquis66.com
SUMMARY:Benny's Pizza
DESCRIPTION:
URL:https://marquis66.com/event/bennys-pizza-2/
LOCATION:Benny’s Pizza\, 968 Columbus Avenue\, Marysville\, OH\, 43040\, United States
END:VEVENT
BEGIN:VEVENT
DTSTART;TZID=UTC:20220611T180000
DTEND;TZID=UTC:20220611T200000
DTSTAMP:20260420T072233
CREATED:20220305T161326Z
LAST-MODIFIED:20220305T161326Z
UID:395-1654970400-1654977600@marquis66.com
SUMMARY:Blendon Township Concert Series
DESCRIPTION:
URL:https://marquis66.com/event/blendon-township-concert-series-2/
LOCATION:Blendon Township – Concerts in the Park\, The Gazebo in Ridgewood Park - 5484 Buenos Aires Blvd.\, Westerville\, OH\, 43081\, United States
END:VEVENT
BEGIN:VEVENT
DTSTART;TZID=UTC:20220617T190000
DTEND;TZID=UTC:20220617T230000
DTSTAMP:20260420T072233
CREATED:20220305T161815Z
LAST-MODIFIED:20220305T161856Z
UID:400-1655492400-1655506800@marquis66.com
SUMMARY:Papa Boo's
DESCRIPTION:
URL:https://marquis66.com/event/papa-boos-2/
LOCATION:Papa Boo’s\, 11356 Avondale Road\, Thornville\, OH\, 43076\, United States
END:VEVENT
BEGIN:VEVENT
DTSTART;TZID=UTC:20220619T130000
DTEND;TZID=UTC:20220619T170000
DTSTAMP:20260420T072233
CREATED:20220305T221104Z
LAST-MODIFIED:20220305T221104Z
UID:405-1655643600-1655658000@marquis66.com
SUMMARY:Waterfront on Buckeye Lake
DESCRIPTION:
URL:https://marquis66.com/event/waterfront-on-buckeye-lake/
LOCATION:Waterfront on Buckeye Lake\, 10055 Sunfish Lane\, Thornville\, OH\, 43076\, United States
END:VEVENT
BEGIN:VEVENT
DTSTART;TZID=UTC:20220623T200000
DTEND;TZID=UTC:20220623T220000
DTSTAMP:20260420T072233
CREATED:20220305T224541Z
LAST-MODIFIED:20220305T225018Z
UID:408-1656014400-1656021600@marquis66.com
SUMMARY:Johnstown Fireman's Festival
DESCRIPTION:
URL:https://marquis66.com/event/johnstown-firemans-festival/
LOCATION:Johnstown Fireman’s Festival\, Town Square\, Johnstown\, OH\, 43031\, United States
END:VEVENT
BEGIN:VEVENT
DTSTART;TZID=UTC:20220625T190000
DTEND;TZID=UTC:20220625T224500
DTSTAMP:20260420T072233
CREATED:20220305T224907Z
LAST-MODIFIED:20220305T224907Z
UID:411-1656183600-1656197100@marquis66.com
SUMMARY:Newark Eagles
DESCRIPTION:
URL:https://marquis66.com/event/newark-eagles-2/
LOCATION:Newark Eagles\, 52 Forry Street\, Newark\, OH\, 43055\, United States
END:VEVENT
BEGIN:VEVENT
DTSTART;VALUE=DATE:20220702
DTEND;VALUE=DATE:20220703
DTSTAMP:20260420T072233
CREATED:20220516T215121Z
LAST-MODIFIED:20220516T215121Z
UID:449-1656720000-1656806399@marquis66.com
SUMMARY:Private Party
DESCRIPTION:
URL:https://marquis66.com/event/private-party-5/
LOCATION:OH
END:VEVENT
BEGIN:VEVENT
DTSTART;TZID=UTC:20220708T193000
DTEND;TZID=UTC:20220708T233000
DTSTAMP:20260420T072233
CREATED:20220305T225445Z
LAST-MODIFIED:20220305T225445Z
UID:414-1657308600-1657323000@marquis66.com
SUMMARY:Pickerington American Legion
DESCRIPTION:
URL:https://marquis66.com/event/pickerington-american-legion-3/
LOCATION:Pickerington American Legion\, 7725 Refugee Rd\, Pickerington\, OH\, 43147\, United States
END:VEVENT
BEGIN:VEVENT
DTSTART;VALUE=DATE:20220715
DTEND;VALUE=DATE:20220716
DTSTAMP:20260420T072233
CREATED:20220629T002642Z
LAST-MODIFIED:20220629T002642Z
UID:468-1657843200-1657929599@marquis66.com
SUMMARY:Private Party
DESCRIPTION:
URL:https://marquis66.com/event/private-party-6/
LOCATION:OH
END:VEVENT
BEGIN:VEVENT
DTSTART;TZID=UTC:20220716T190000
DTEND;TZID=UTC:20220716T220000
DTSTAMP:20260420T072233
CREATED:20220516T213531Z
LAST-MODIFIED:20220516T213531Z
UID:444-1657998000-1658008800@marquis66.com
SUMMARY:Alexandria Fun Days
DESCRIPTION:
URL:https://marquis66.com/event/alexandria-fun-days/
LOCATION:Alexandria Fun Days\, 124 College Street\, Alexandria\, OH\, 43001\, United States
END:VEVENT
BEGIN:VEVENT
DTSTART;TZID=UTC:20220718T130000
DTEND;TZID=UTC:20220718T170000
DTSTAMP:20260420T072233
CREATED:20220305T225921Z
LAST-MODIFIED:20220305T230405Z
UID:419-1658149200-1658163600@marquis66.com
SUMMARY:Private Event
DESCRIPTION:
URL:https://marquis66.com/event/private-event-2/
LOCATION:Private Event
END:VEVENT
BEGIN:VEVENT
DTSTART;TZID=UTC:20220819T203000
DTEND;TZID=UTC:20220819T230000
DTSTAMP:20260420T072233
CREATED:20220306T165731Z
LAST-MODIFIED:20220306T165731Z
UID:433-1660941000-1660950000@marquis66.com
SUMMARY:Pataskala Street Fair
DESCRIPTION:
URL:https://marquis66.com/event/pataskala-street-fair-2/
LOCATION:Pataskala Street Fair\, State Route 310\, Pataskala\, OH\, 43062\, United States
END:VEVENT
BEGIN:VEVENT
DTSTART;TZID=UTC:20220820T190000
DTEND;TZID=UTC:20220820T230000
DTSTAMP:20260420T072233
CREATED:20220305T230840Z
LAST-MODIFIED:20220305T231515Z
UID:423-1661022000-1661036400@marquis66.com
SUMMARY:Eagles Campground
DESCRIPTION:Campers are free. Non-Campers are $5.00
URL:https://marquis66.com/event/eagles-campground-2/
LOCATION:Eagles Campground\, 5118 US 68 North\, Bellefontaine\, OH\, 43311\, United States
END:VEVENT
BEGIN:VEVENT
DTSTART;TZID=UTC:20220827T140000
DTEND;TZID=UTC:20220827T180000
DTSTAMP:20260420T072233
CREATED:20220313T211438Z
LAST-MODIFIED:20220313T211438Z
UID:435-1661608800-1661623200@marquis66.com
SUMMARY:Peeper's on Kelley's Island
DESCRIPTION:
URL:https://marquis66.com/event/peepers-on-kelleys-island/
LOCATION:Peeper’s at Kelleys Island\, 109 W. Lakeshore Drive\, Kelleys Island\, OH\, 43438\, United States
END:VEVENT
BEGIN:VEVENT
DTSTART;TZID=UTC:20220909T190000
DTEND;TZID=UTC:20220909T230000
DTSTAMP:20260420T072233
CREATED:20220624T190817Z
LAST-MODIFIED:20220624T190817Z
UID:461-1662750000-1662764400@marquis66.com
SUMMARY:Buckeye Lake Moose
DESCRIPTION:
URL:https://marquis66.com/event/buckeye-lake-moose/
LOCATION:Buckeye Lake Moose\, 8985 Blackbird Lane\, Thornville\, OH\, 43076\, United States
END:VEVENT
BEGIN:VEVENT
DTSTART;VALUE=DATE:20220917
DTEND;VALUE=DATE:20220918
DTSTAMP:20260420T072233
CREATED:20220806T154345Z
LAST-MODIFIED:20220806T154345Z
UID:471-1663372800-1663459199@marquis66.com
SUMMARY:Private Party
DESCRIPTION:
URL:https://marquis66.com/event/private-party-7/
LOCATION:Private Event
END:VEVENT
BEGIN:VEVENT
DTSTART;TZID=UTC:20221007T190000
DTEND;TZID=UTC:20221007T230000
DTSTAMP:20260420T072233
CREATED:20220613T184038Z
LAST-MODIFIED:20220613T184038Z
UID:456-1665169200-1665183600@marquis66.com
SUMMARY:Circleville American Legion
DESCRIPTION:
URL:https://marquis66.com/event/circleville-american-legion-2/
LOCATION:Circleville American Legion\, 23363 US 23\, Circleville\, OH\, 43113\, United States
END:VEVENT
BEGIN:VEVENT
DTSTART;TZID=UTC:20221021T200000
DTEND;TZID=UTC:20221022T000000
DTSTAMP:20260420T072233
CREATED:20220624T191750Z
LAST-MODIFIED:20220624T191750Z
UID:464-1666382400-1666396800@marquis66.com
SUMMARY:Circleville Eagles
DESCRIPTION:
URL:https://marquis66.com/event/circleville-eagles/
LOCATION:Circleville Eagles\, 135 E. Main Street\, Circleville\, OH\, 43113\, United States
END:VEVENT
END:VCALENDAR