BEGIN:VCALENDAR
VERSION:2.0
PRODID:-// - ECPv6.15.20//NONSGML v1.0//EN
CALSCALE:GREGORIAN
METHOD:PUBLISH
X-ORIGINAL-URL:https://marquis66.com
X-WR-CALDESC:Events for 
REFRESH-INTERVAL;VALUE=DURATION:PT1H
X-Robots-Tag:noindex
X-PUBLISHED-TTL:PT1H
BEGIN:VTIMEZONE
TZID:UTC
BEGIN:STANDARD
TZOFFSETFROM:+0000
TZOFFSETTO:+0000
TZNAME:UTC
DTSTART:20250101T000000
END:STANDARD
END:VTIMEZONE
BEGIN:VEVENT
DTSTART;TZID=UTC:20260619T180000
DTEND;TZID=UTC:20260619T203000
DTSTAMP:20260420T213034
CREATED:20250904T144334Z
LAST-MODIFIED:20250904T144334Z
UID:917-1781892000-1781901000@marquis66.com
SUMMARY:Clyde Summer Concert Series
DESCRIPTION:
URL:https://marquis66.com/event/clyde-summer-concert-series/
LOCATION:Clyde (Ohio) Summer Concert Series\, 124 West Buckeye Street\, Clyde\, OH\, 43410
END:VEVENT
END:VCALENDAR