BEGIN:VCALENDAR
VERSION:2.0
PRODID:-// - ECPv6.15.20//NONSGML v1.0//EN
CALSCALE:GREGORIAN
METHOD:PUBLISH
X-ORIGINAL-URL:https://marquis66.com
X-WR-CALDESC:Events for 
REFRESH-INTERVAL;VALUE=DURATION:PT1H
X-Robots-Tag:noindex
X-PUBLISHED-TTL:PT1H
BEGIN:VTIMEZONE
TZID:America/New_York
BEGIN:DAYLIGHT
TZOFFSETFROM:-0500
TZOFFSETTO:-0400
TZNAME:EDT
DTSTART:20200308T070000
END:DAYLIGHT
BEGIN:STANDARD
TZOFFSETFROM:-0400
TZOFFSETTO:-0500
TZNAME:EST
DTSTART:20201101T060000
END:STANDARD
BEGIN:DAYLIGHT
TZOFFSETFROM:-0500
TZOFFSETTO:-0400
TZNAME:EDT
DTSTART:20210314T070000
END:DAYLIGHT
BEGIN:STANDARD
TZOFFSETFROM:-0400
TZOFFSETTO:-0500
TZNAME:EST
DTSTART:20211107T060000
END:STANDARD
BEGIN:DAYLIGHT
TZOFFSETFROM:-0500
TZOFFSETTO:-0400
TZNAME:EDT
DTSTART:20220313T070000
END:DAYLIGHT
BEGIN:STANDARD
TZOFFSETFROM:-0400
TZOFFSETTO:-0500
TZNAME:EST
DTSTART:20221106T060000
END:STANDARD
END:VTIMEZONE
BEGIN:VTIMEZONE
TZID:UTC
BEGIN:STANDARD
TZOFFSETFROM:+0000
TZOFFSETTO:+0000
TZNAME:UTC
DTSTART:20200101T000000
END:STANDARD
END:VTIMEZONE
BEGIN:VEVENT
DTSTART;TZID=America/New_York:20210612T180000
DTEND;TZID=America/New_York:20210612T200000
DTSTAMP:20260420T091927
CREATED:20210520T220012Z
LAST-MODIFIED:20210520T220012Z
UID:121-1623520800-1623528000@marquis66.com
SUMMARY:Blendon Township Concert Series
DESCRIPTION:
URL:https://marquis66.com/event/blendon-township-concert-series/
LOCATION:Blendon Township – Concerts in the Park\, The Gazebo in Ridgewood Park - 5484 Buenos Aires Blvd.\, Westerville\, OH\, 43081\, United States
END:VEVENT
BEGIN:VEVENT
DTSTART;TZID=America/New_York:20210613T140000
DTEND;TZID=America/New_York:20210613T160000
DTSTAMP:20260420T091927
CREATED:20210523T233150Z
LAST-MODIFIED:20210523T233150Z
UID:137-1623592800-1623600000@marquis66.com
SUMMARY:Weldon's Ice Cream
DESCRIPTION:
URL:https://marquis66.com/event/weldons-ice-cream/
LOCATION:Weldon’s Ice Cream Factory\, 2887 Canal Drive\, Millersport\, OH\, 43046\, United States
END:VEVENT
BEGIN:VEVENT
DTSTART;TZID=UTC:20210618T190000
DTEND;TZID=UTC:20210618T230000
DTSTAMP:20260420T091927
CREATED:20210523T233612Z
LAST-MODIFIED:20210523T233908Z
UID:140-1624042800-1624057200@marquis66.com
SUMMARY:Reynoldsburg Eagles
DESCRIPTION:
URL:https://marquis66.com/event/reynoldsburg-eagles/
LOCATION:Reynoldsburg Eagles\, 1623 Brice Road\, Reynoldsburg\, 43068
END:VEVENT
BEGIN:VEVENT
DTSTART;TZID=America/New_York:20210625T200000
DTEND;TZID=America/New_York:20210626T003000
DTSTAMP:20260420T091927
CREATED:20210521T154058Z
LAST-MODIFIED:20210521T154138Z
UID:125-1624651200-1624667400@marquis66.com
SUMMARY:Peeper's at Kelleys Island
DESCRIPTION:
URL:https://marquis66.com/event/peepers-at-kelleys-island/
LOCATION:Peeper’s at Kelleys Island\, 109 W. Lakeshore Drive\, Kelleys Island\, OH\, 43438\, United States
END:VEVENT
BEGIN:VEVENT
DTSTART;TZID=America/New_York:20210626T200000
DTEND;TZID=America/New_York:20210627T003000
DTSTAMP:20260420T091927
CREATED:20210521T154524Z
LAST-MODIFIED:20210521T154524Z
UID:128-1624737600-1624753800@marquis66.com
SUMMARY:Peeper's at Kelleys Island
DESCRIPTION:
URL:https://marquis66.com/event/peepers-at-kelleys-island-2/
LOCATION:Peeper’s at Kelleys Island\, 109 W. Lakeshore Drive\, Kelleys Island\, OH\, 43438\, United States
END:VEVENT
END:VCALENDAR