BEGIN:VCALENDAR
VERSION:2.0
PRODID:-// - ECPv6.15.20//NONSGML v1.0//EN
CALSCALE:GREGORIAN
METHOD:PUBLISH
X-ORIGINAL-URL:https://marquis66.com
X-WR-CALDESC:Events for 
REFRESH-INTERVAL;VALUE=DURATION:PT1H
X-Robots-Tag:noindex
X-PUBLISHED-TTL:PT1H
BEGIN:VTIMEZONE
TZID:America/New_York
BEGIN:DAYLIGHT
TZOFFSETFROM:-0500
TZOFFSETTO:-0400
TZNAME:EDT
DTSTART:20200308T070000
END:DAYLIGHT
BEGIN:STANDARD
TZOFFSETFROM:-0400
TZOFFSETTO:-0500
TZNAME:EST
DTSTART:20201101T060000
END:STANDARD
BEGIN:DAYLIGHT
TZOFFSETFROM:-0500
TZOFFSETTO:-0400
TZNAME:EDT
DTSTART:20210314T070000
END:DAYLIGHT
BEGIN:STANDARD
TZOFFSETFROM:-0400
TZOFFSETTO:-0500
TZNAME:EST
DTSTART:20211107T060000
END:STANDARD
BEGIN:DAYLIGHT
TZOFFSETFROM:-0500
TZOFFSETTO:-0400
TZNAME:EDT
DTSTART:20220313T070000
END:DAYLIGHT
BEGIN:STANDARD
TZOFFSETFROM:-0400
TZOFFSETTO:-0500
TZNAME:EST
DTSTART:20221106T060000
END:STANDARD
END:VTIMEZONE
BEGIN:VTIMEZONE
TZID:UTC
BEGIN:STANDARD
TZOFFSETFROM:+0000
TZOFFSETTO:+0000
TZNAME:UTC
DTSTART:20200101T000000
END:STANDARD
END:VTIMEZONE
BEGIN:VEVENT
DTSTART;TZID=America/New_York:20210820T210000
DTEND;TZID=America/New_York:20210820T230000
DTSTAMP:20260420T060613
CREATED:20210603T194930Z
LAST-MODIFIED:20210603T194930Z
UID:210-1629493200-1629500400@marquis66.com
SUMMARY:Pataskala Street Fair
DESCRIPTION:
URL:https://marquis66.com/event/pataskala-street-fair/
LOCATION:Pataskala Street Fair\, State Route 310\, Pataskala\, OH\, 43062\, United States
END:VEVENT
BEGIN:VEVENT
DTSTART;TZID=America/New_York:20210821T190000
DTEND;TZID=America/New_York:20210821T230000
DTSTAMP:20260420T060613
CREATED:20210521T155806Z
LAST-MODIFIED:20210521T155806Z
UID:134-1629572400-1629586800@marquis66.com
SUMMARY:Eagles Campground
DESCRIPTION:
URL:https://marquis66.com/event/eagles-campground/
LOCATION:Eagles Campground\, 5118 US 68 North\, Bellefontaine\, OH\, 43311\, United States
END:VEVENT
BEGIN:VEVENT
DTSTART;VALUE=DATE:20210822
DTEND;VALUE=DATE:20210823
DTSTAMP:20260420T060613
CREATED:20210524T204325Z
LAST-MODIFIED:20210524T204325Z
UID:163-1629590400-1629676799@marquis66.com
SUMMARY:Class Reunion / Private Party
DESCRIPTION:
URL:https://marquis66.com/event/class-reunion-private-party/
LOCATION:OH
END:VEVENT
BEGIN:VEVENT
DTSTART;TZID=America/New_York:20210827T190000
DTEND;TZID=America/New_York:20210827T230000
DTSTAMP:20260420T060613
CREATED:20210602T001846Z
LAST-MODIFIED:20210602T001846Z
UID:201-1630090800-1630105200@marquis66.com
SUMMARY:Pickerington American Legion
DESCRIPTION:
URL:https://marquis66.com/event/pickerington-american-legion/
LOCATION:Pickerington American Legion\, 7725 Refugee Rd\, Pickerington\, OH\, 43147\, United States
END:VEVENT
END:VCALENDAR