BEGIN:VCALENDAR
VERSION:2.0
PRODID:-// - ECPv6.15.20//NONSGML v1.0//EN
CALSCALE:GREGORIAN
METHOD:PUBLISH
X-ORIGINAL-URL:https://marquis66.com
X-WR-CALDESC:Events for 
REFRESH-INTERVAL;VALUE=DURATION:PT1H
X-Robots-Tag:noindex
X-PUBLISHED-TTL:PT1H
BEGIN:VTIMEZONE
TZID:America/New_York
BEGIN:DAYLIGHT
TZOFFSETFROM:-0500
TZOFFSETTO:-0400
TZNAME:EDT
DTSTART:20200308T070000
END:DAYLIGHT
BEGIN:STANDARD
TZOFFSETFROM:-0400
TZOFFSETTO:-0500
TZNAME:EST
DTSTART:20201101T060000
END:STANDARD
BEGIN:DAYLIGHT
TZOFFSETFROM:-0500
TZOFFSETTO:-0400
TZNAME:EDT
DTSTART:20210314T070000
END:DAYLIGHT
BEGIN:STANDARD
TZOFFSETFROM:-0400
TZOFFSETTO:-0500
TZNAME:EST
DTSTART:20211107T060000
END:STANDARD
BEGIN:DAYLIGHT
TZOFFSETFROM:-0500
TZOFFSETTO:-0400
TZNAME:EDT
DTSTART:20220313T070000
END:DAYLIGHT
BEGIN:STANDARD
TZOFFSETFROM:-0400
TZOFFSETTO:-0500
TZNAME:EST
DTSTART:20221106T060000
END:STANDARD
END:VTIMEZONE
BEGIN:VTIMEZONE
TZID:UTC
BEGIN:STANDARD
TZOFFSETFROM:+0000
TZOFFSETTO:+0000
TZNAME:UTC
DTSTART:20200101T000000
END:STANDARD
END:VTIMEZONE
BEGIN:VEVENT
DTSTART;TZID=America/New_York:20211001T190000
DTEND;TZID=America/New_York:20211001T230000
DTSTAMP:20260420T023249
CREATED:20210622T143410Z
LAST-MODIFIED:20210922T123851Z
UID:279-1633114800-1633129200@marquis66.com
SUMMARY:Newark Moose
DESCRIPTION:
URL:https://marquis66.com/event/newark-moose/
LOCATION:Newark Moose\, 235 West National Drive\, Newark\, OH\, 43055\, United States
END:VEVENT
BEGIN:VEVENT
DTSTART;TZID=UTC:20211010T140000
DTEND;TZID=UTC:20211010T150000
DTSTAMP:20260420T023249
CREATED:20210929T171417Z
LAST-MODIFIED:20211008T125649Z
UID:365-1633874400-1633878000@marquis66.com
SUMMARY:The 70s' Music Explosion at the Columbus Historical Society
DESCRIPTION:Please join us for our free opening reception for our new exhibit\, The 70’s Music Explosion in Columbus\, Ohio at the Columbus Historical Society on Sunday\, October 10 at 1 pm. Enjoy live 70’s music provided by Marquis66 from 2-3 pm! \nWe look forward to seeing you at our exciting new exhibit. The event is free\, but tickets are required. Light refreshments will be provided. \nCHS is located at 717 West Town Street\, which is just west of 315 and just east of Mount Carmel West. \nGet Your Ticket Here!
URL:https://marquis66.com/event/private-party-3/
LOCATION:Columbus Historical Society\, 717 West Town Street\, Columbus\, OH\, 43222\, United States
END:VEVENT
BEGIN:VEVENT
DTSTART;TZID=America/New_York:20211015T173000
DTEND;TZID=America/New_York:20211015T190000
DTSTAMP:20260420T023249
CREATED:20210524T204118Z
LAST-MODIFIED:20211004T145008Z
UID:160-1634319000-1634324400@marquis66.com
SUMMARY:Grove City Summer Sizzle Concert Series
DESCRIPTION:SummerSizzleMapMusician
URL:https://marquis66.com/event/grove-city-summer-sizzle-concert-series/
LOCATION:Grove City Summer Sizzle Concert Series\, 3359 Park Street\, Grove City\, OH\, 43123\, United States
END:VEVENT
BEGIN:VEVENT
DTSTART;TZID=America/New_York:20211016T200000
DTEND;TZID=America/New_York:20211017T000000
DTSTAMP:20260420T023249
CREATED:20210524T210947Z
LAST-MODIFIED:20210524T210947Z
UID:171-1634414400-1634428800@marquis66.com
SUMMARY:Hunter Street Saloon
DESCRIPTION:
URL:https://marquis66.com/event/hunter-street-saloon/
LOCATION:Hunter Street Saloon\, 885 W Hunter Street\, Logan\, OH\, 43138\, United States
END:VEVENT
END:VCALENDAR