BEGIN:VCALENDAR
VERSION:2.0
PRODID:-// - ECPv6.15.20//NONSGML v1.0//EN
CALSCALE:GREGORIAN
METHOD:PUBLISH
X-ORIGINAL-URL:https://marquis66.com
X-WR-CALDESC:Events for 
REFRESH-INTERVAL;VALUE=DURATION:PT1H
X-Robots-Tag:noindex
X-PUBLISHED-TTL:PT1H
BEGIN:VTIMEZONE
TZID:UTC
BEGIN:STANDARD
TZOFFSETFROM:+0000
TZOFFSETTO:+0000
TZNAME:UTC
DTSTART:20210101T000000
END:STANDARD
END:VTIMEZONE
BEGIN:VTIMEZONE
TZID:America/New_York
BEGIN:DAYLIGHT
TZOFFSETFROM:-0500
TZOFFSETTO:-0400
TZNAME:EDT
DTSTART:20210314T070000
END:DAYLIGHT
BEGIN:STANDARD
TZOFFSETFROM:-0400
TZOFFSETTO:-0500
TZNAME:EST
DTSTART:20211107T060000
END:STANDARD
BEGIN:DAYLIGHT
TZOFFSETFROM:-0500
TZOFFSETTO:-0400
TZNAME:EDT
DTSTART:20220313T070000
END:DAYLIGHT
BEGIN:STANDARD
TZOFFSETFROM:-0400
TZOFFSETTO:-0500
TZNAME:EST
DTSTART:20221106T060000
END:STANDARD
BEGIN:DAYLIGHT
TZOFFSETFROM:-0500
TZOFFSETTO:-0400
TZNAME:EDT
DTSTART:20230312T070000
END:DAYLIGHT
BEGIN:STANDARD
TZOFFSETFROM:-0400
TZOFFSETTO:-0500
TZNAME:EST
DTSTART:20231105T060000
END:STANDARD
END:VTIMEZONE
BEGIN:VEVENT
DTSTART;TZID=UTC:20221104T193000
DTEND;TZID=UTC:20221104T233000
DTSTAMP:20260421T144808
CREATED:20220305T232030Z
LAST-MODIFIED:20220305T232030Z
UID:430-1667590200-1667604600@marquis66.com
SUMMARY:Pickerington American Legion
DESCRIPTION:
URL:https://marquis66.com/event/pickerington-american-legion-4/
LOCATION:Pickerington American Legion\, 7725 Refugee Rd\, Pickerington\, OH\, 43147\, United States
END:VEVENT
BEGIN:VEVENT
DTSTART;TZID=America/New_York:20221118T190000
DTEND;TZID=America/New_York:20221118T230000
DTSTAMP:20260421T144808
CREATED:20221116T155456Z
LAST-MODIFIED:20221116T155456Z
UID:477-1668798000-1668812400@marquis66.com
SUMMARY:Reynoldsburg Eagles
DESCRIPTION:
URL:https://marquis66.com/event/reynoldsburg-eagles-2/
LOCATION:Reynoldsburg Eagles\, 1623 Brice Road\, Reynoldsburg\, 43068
END:VEVENT
END:VCALENDAR