BEGIN:VCALENDAR
VERSION:2.0
PRODID:-// - ECPv6.15.20//NONSGML v1.0//EN
CALSCALE:GREGORIAN
METHOD:PUBLISH
X-ORIGINAL-URL:https://marquis66.com
X-WR-CALDESC:Events for 
REFRESH-INTERVAL;VALUE=DURATION:PT1H
X-Robots-Tag:noindex
X-PUBLISHED-TTL:PT1H
BEGIN:VTIMEZONE
TZID:UTC
BEGIN:STANDARD
TZOFFSETFROM:+0000
TZOFFSETTO:+0000
TZNAME:UTC
DTSTART:20220101T000000
END:STANDARD
END:VTIMEZONE
BEGIN:VEVENT
DTSTART;TZID=UTC:20230701T100000
DTEND;TZID=UTC:20230701T140000
DTSTAMP:20260422T041822
CREATED:20230202T010523Z
LAST-MODIFIED:20230202T010523Z
UID:521-1688205600-1688220000@marquis66.com
SUMMARY:Pataskala's "Light the Night" Event
DESCRIPTION:
URL:https://marquis66.com/event/pataskalas-light-the-night-event/
LOCATION:Pataskala’s “Light the Night” Event\, 10255 McIntosh Road\, Pataskala\, OH\, 43062\, United States
END:VEVENT
BEGIN:VEVENT
DTSTART;TZID=UTC:20230702T100000
DTEND;TZID=UTC:20230702T140000
DTSTAMP:20260422T041822
CREATED:20230202T010844Z
LAST-MODIFIED:20230202T010844Z
UID:529-1688292000-1688306400@marquis66.com
SUMMARY:Rain Date Pataskala's "Light the Night" Event
DESCRIPTION:
URL:https://marquis66.com/event/rain-date-pataskalas-light-the-night-event/
LOCATION:Pataskala’s “Light the Night” Event\, 10255 McIntosh Road\, Pataskala\, OH\, 43062\, United States
END:VEVENT
BEGIN:VEVENT
DTSTART;TZID=UTC:20230702T193000
DTEND;TZID=UTC:20230702T213000
DTSTAMP:20260422T041822
CREATED:20230311T214715Z
LAST-MODIFIED:20230421T124531Z
UID:544-1688326200-1688333400@marquis66.com
SUMMARY:Johnstown 4th of July Fireworks Celebration
DESCRIPTION:
URL:https://marquis66.com/event/johnston-4th-of-july-fireworks-celebration/
LOCATION:Johnstown High School\, 401 S. Oregon St\, Johnstown\, OH\, 43031\, United States
END:VEVENT
BEGIN:VEVENT
DTSTART;TZID=UTC:20230706T190000
DTEND;TZID=UTC:20230706T203000
DTSTAMP:20260422T041822
CREATED:20230209T194033Z
LAST-MODIFIED:20230209T200835Z
UID:532-1688670000-1688675400@marquis66.com
SUMMARY:Preservation Parks of Delaware County - Summer Concert Series
DESCRIPTION:
URL:https://marquis66.com/event/preservation-parks-of-delaware-county-summer-concert-series/
LOCATION:Preservation Parks of Delaware County – Summer Concert Series\, Gallant Woods Park - 2151 Buttermilk Hill Road\, Delaware\, OH\, 43015\, United States
END:VEVENT
BEGIN:VEVENT
DTSTART;TZID=UTC:20230708T190000
DTEND;TZID=UTC:20230708T230000
DTSTAMP:20260422T041822
CREATED:20220806T154534Z
LAST-MODIFIED:20221208T151818Z
UID:473-1688842800-1688857200@marquis66.com
SUMMARY:Private Party - Circleville
DESCRIPTION:
URL:https://marquis66.com/event/private-party-8/
LOCATION:Private Event
END:VEVENT
BEGIN:VEVENT
DTSTART;VALUE=DATE:20230710
DTEND;VALUE=DATE:20230711
DTSTAMP:20260422T041822
CREATED:20230404T212011Z
LAST-MODIFIED:20230404T212011Z
UID:557-1688947200-1689033599@marquis66.com
SUMMARY:Charity event for Ronald McDonald House
DESCRIPTION:
URL:https://marquis66.com/event/charity-event-for-ronald-mcdonald-house/
LOCATION:Private Event
END:VEVENT
BEGIN:VEVENT
DTSTART;TZID=UTC:20230715T200000
DTEND;TZID=UTC:20230715T220000
DTSTAMP:20260422T041822
CREATED:20230125T133905Z
LAST-MODIFIED:20230125T133905Z
UID:517-1689451200-1689458400@marquis66.com
SUMMARY:Crooksville-Roseville Pottery Festival
DESCRIPTION:
URL:https://marquis66.com/event/crooksville-roseville-pottery-festival/
LOCATION:Crooksville-Roseville Pottery Festival\, 7 Park Street\, Crooksville\, OH\, 43731\, United States
END:VEVENT
BEGIN:VEVENT
DTSTART;TZID=UTC:20230728T200000
DTEND;TZID=UTC:20230728T233000
DTSTAMP:20260422T041822
CREATED:20230608T124228Z
LAST-MODIFIED:20230608T124228Z
UID:576-1690574400-1690587000@marquis66.com
SUMMARY:Hollywood Casino Toledo
DESCRIPTION:
URL:https://marquis66.com/event/hollywood-casino-toledo-2/
LOCATION:Hollywood Casino Toledo\, 1968 Miami Street\, Toledo\, 43605\, United States
END:VEVENT
END:VCALENDAR