BEGIN:VCALENDAR
VERSION:2.0
PRODID:-// - ECPv6.15.20//NONSGML v1.0//EN
CALSCALE:GREGORIAN
METHOD:PUBLISH
X-ORIGINAL-URL:https://marquis66.com
X-WR-CALDESC:Events for 
REFRESH-INTERVAL;VALUE=DURATION:PT1H
X-Robots-Tag:noindex
X-PUBLISHED-TTL:PT1H
BEGIN:VTIMEZONE
TZID:UTC
BEGIN:STANDARD
TZOFFSETFROM:+0000
TZOFFSETTO:+0000
TZNAME:UTC
DTSTART:20220101T000000
END:STANDARD
END:VTIMEZONE
BEGIN:VEVENT
DTSTART;TZID=UTC:20231216T190000
DTEND;TZID=UTC:20231216T230000
DTSTAMP:20260422T130614
CREATED:20230812T133330Z
LAST-MODIFIED:20230812T133330Z
UID:602-1702753200-1702767600@marquis66.com
SUMMARY:Zanesville American Legion
DESCRIPTION:
URL:https://marquis66.com/event/zanesville-american-legion-2/
LOCATION:Zanesville American Legion\, 27 S. Third St.\, Zanesville\, OH\, 43701\, United States
END:VEVENT
BEGIN:VEVENT
DTSTART;TZID=UTC:20231229T190000
DTEND;TZID=UTC:20231229T220000
DTSTAMP:20260422T130614
CREATED:20230903T155429Z
LAST-MODIFIED:20230903T155429Z
UID:608-1703876400-1703887200@marquis66.com
SUMMARY:Hollywood Casino Toledo
DESCRIPTION:
URL:https://marquis66.com/event/hollywood-casino-toledo-3/
LOCATION:Hollywood Casino Toledo\, 1968 Miami Street\, Toledo\, 43605\, United States
END:VEVENT
BEGIN:VEVENT
DTSTART;TZID=UTC:20231231T201500
DTEND;TZID=UTC:20240101T001500
DTSTAMP:20260422T130614
CREATED:20230803T183457Z
LAST-MODIFIED:20230803T184613Z
UID:593-1704053700-1704068100@marquis66.com
SUMMARY:Ohio Amvets Post 2256 Circleville
DESCRIPTION:
URL:https://marquis66.com/event/circleville-amvets/
LOCATION:Ohio Amvets Post 2256 Circleville\, 818 Tarlton Road\, Circleville\, OH\, 43113\, United States
END:VEVENT
END:VCALENDAR